BEGIN:VCALENDAR
VERSION:2.0
PRODID:-//eventon.com NONSGML v1.0//EN
CALSCALE:GREGORIAN
METHOD:PUBLISH
BEGIN:VEVENT
UID:69e75a2328181
DTSTAMP:20260421T110611Z
DTSTART:20240110T090200Z
DTEND:20240110T090200Z
LOCATION:
SUMMARY:Schwarzwald - in Planung
DESCRIPTION:Schwarzwald - in Planung\nhttps://haydensoulwork.com/events/sch
 warzwald-in-planung/
URL:https://haydensoulwork.com/events/schwarzwald-in-planung/
END:VEVENT
END:VCALENDAR