BEGIN:VCALENDAR
VERSION:2.0
PRODID:-//eventon.com NONSGML v1.0//EN
CALSCALE:GREGORIAN
METHOD:PUBLISH
BEGIN:VEVENT
UID:69e7518874d44
DTSTAMP:20260421T102928Z
DTSTART:20240109T173000Z
DTEND:20240109T190000Z
LOCATION:
SUMMARY:HAYDEN • SOULWORK - GRUNDKURS (11.2023)
DESCRIPTION:Mach endlich Deine Hausaufgaben Do Your F** Homework Dies ist e
 ine liebevoll gemeinte Aufforderung an Dich\,  der Welt offen zu begegnen\,
   jeden Moment zu einer Lernerfahrung zu machen\,  alte Glaubenssätze abzu
 legen und neue Verhaltensmuster zu trainieren\,  um auf den Weg zurück zu 
 Dir nach Hause umzukehren. Entdecke Deine Dir angeborene[..]\nhttps://hayde
 nsoulwork.com/en/events/hayden-soulwork-grundkurs-11-2023-4/var/event_acces
 s
URL:https://haydensoulwork.com/en/events/hayden-soulwork-grundkurs-11-2023-4/var/event_access
END:VEVENT
END:VCALENDAR